Workbook
Name fator_padrão: 'Custo Consolidado'!$I$10

Sheet Professores - Escola 12 Salas
B2: Etapas e Modalidades da Educaçao Básica | C2: Nº de Turmas | D2: Horas Dia | E2: Horas por Semana (horas dia x 5 dias) | F2: Horas que precisam ser contratadas considerando hora-atividade | G2: Nº Professores necessarios 40h | H2: Nº de alunos por turma | I2: Total de alunos | J2: Relação professor/aluno | K2: 75% professores com nível superior* | L2: 25% profesores com nível médio*
B3: Creche em tempo integral
B4: Pública | C4: 10 | D4: 7 | E4: =Tabela13[[#This Row],[Nº de Turmas]]*Tabela13[[#This Row],[Horas Dia]]*5 -> 350 | F4: =E4*E4/(E4/3*2) -> 525 | G4: =Tabela13[[#This Row],[Horas que precisam ser contratadas considerando hora-atividade]]/40 -> 13.125 | H4: 13 | I4: =Tabela13[[#This Row],[Nº de Turmas]]*Tabela13[[#This Row],[Nº de alunos por turma]] -> 130 | J4: =Tabela13[[#This Row],[Total de alunos]]/Tabela13[[#This Row],[Nº Professores necessarios 40h]] -> 9.9047619 | K4: =Tabela13[[#This Row],[Nº Professores necessarios 40h]]*75% -> 9.84375 | L4: =Tabela13[[#This Row],[Nº Professores necessarios 40h]]*25% -> 3.28125
B5: Creche em tempo parcial
B6: Pública | C6: 20 | D6: 5 | E6: =Tabela13[[#This Row],[Nº de Turmas]]*Tabela13[[#This Row],[Horas Dia]]*5 -> 500 | F6: =E6*E6/(E6/3*2) -> 750 | G6: =Tabela13[[#This Row],[Horas que precisam ser contratadas considerando hora-atividade]]/40 -> 18.75 | H6: 13 | I6: =Tabela13[[#This Row],[Nº de Turmas]]*Tabela13[[#This Row],[Nº de alunos por turma]] -> 260 | J6: =Tabela13[[#This Row],[Total de alunos]]/Tabela13[[#This Row],[Nº Professores necessarios 40h]] -> 13.866667 | K6: =Tabela13[[#This Row],[Nº Professores necessarios 40h]]*75% -> 14.0625 | L6: =Tabela13[[#This Row],[Nº Professores necessarios 40h]]*25% -> 4.6875
B7: Pré-escola em tempo integral | C7: 12 | D7: 7 | E7: =Tabela13[[#This Row],[Nº de Turmas]]*Tabela13[[#This Row],[Horas Dia]]*5 -> 420 | F7: =E7*E7/(E7/3*2) -> 630 | G7: =Tabela13[[#This Row],[Horas que precisam ser contratadas considerando hora-atividade]]/40 -> 15.75 | H7: 20 | I7: =Tabela13[[#This Row],[Nº de Turmas]]*Tabela13[[#This Row],[Nº de alunos por turma]] -> 240 | J7: =Tabela13[[#This Row],[Total de alunos]]/Tabela13[[#This Row],[Nº Professores necessarios 40h]] -> 15.238095 | K7: =Tabela13[[#This Row],[Nº Professores necessarios 40h]]*75% -> 11.8125 | L7: =Tabela13[[#This Row],[Nº Professores necessarios 40h]]*25% -> 3.9375
B8: Pré-escola em tempo parcial | C8: 24 | D8: 5 | E8: =Tabela13[[#This Row],[Nº de Turmas]]*Tabela13[[#This Row],[Horas Dia]]*5 -> 600 | F8: =E8*E8/(E8/3*2) -> 900 | G8: =Tabela13[[#This Row],[Horas que precisam ser contratadas considerando hora-atividade]]/40 -> 22.5 | H8: 20 | I8: =Tabela13[[#This Row],[Nº de Turmas]]*Tabela13[[#This Row],[Nº de alunos por turma]] -> 480 | J8: =Tabela13[[#This Row],[Total de alunos]]/Tabela13[[#This Row],[Nº Professores necessarios 40h]] -> 21.333333 | K8: =Tabela13[[#This Row],[Nº Professores necessarios 40h]]*75% -> 16.875 | L8: =Tabela13[[#This Row],[Nº Professores necessarios 40h]]*25% -> 5.625
B9: Anos iniciais do Ensino Fundamental urbano | C9: 24 | D9: 5 | E9: =Tabela13[[#This Row],[Nº de Turmas]]*Tabela13[[#This Row],[Horas Dia]]*5 -> 600 | F9: =E9*E9/(E9/3*2) -> 900 | G9: =Tabela13[[#This Row],[Horas que precisam ser contratadas considerando hora-atividade]]/40 -> 22.5 | H9: 24 | I9: =Tabela13[[#This Row],[Nº de Turmas]]*Tabela13[[#This Row],[Nº de alunos por turma]] -> 576 | J9: =Tabela13[[#This Row],[Total de alunos]]/Tabela13[[#This Row],[Nº Professores necessarios 40h]] -> 25.6 | K9: =Tabela13[[#This Row],[Nº Professores necessarios 40h]]*75% -> 16.875 | L9: =Tabela13[[#This Row],[Nº Professores necessarios 40h]]*25% -> 5.625
B10: Anos finais do ensino fundamental urbana | C10: 24 | D10: 5 | E10: =Tabela13[[#This Row],[Nº de Turmas]]*Tabela13[[#This Row],[Horas Dia]]*5 -> 600 | F10: =E10*E10/(E10/3*2) -> 900 | G10: =Tabela13[[#This Row],[Horas que precisam ser contratadas considerando hora-atividade]]/40 -> 22.5 | H10: 30 | I10: =Tabela13[[#This Row],[Nº de Turmas]]*Tabela13[[#This Row],[Nº de alunos por turma]] -> 720 | J10: =Tabela13[[#This Row],[Total de alunos]]/Tabela13[[#This Row],[Nº Professores necessarios 40h]] -> 32 | K10: =Tabela13[[#This Row],[Nº Professores necessarios 40h]]*75% -> 16.875 | L10: =Tabela13[[#This Row],[Nº Professores necessarios 40h]]*25% -> 5.625
B11: Ensino Fundamental em tempo integral | C11: 12 | D11: 7 | E11: =Tabela13[[#This Row],[Nº de Turmas]]*Tabela13[[#This Row],[Horas Dia]]*5 -> 420 | F11: =E11*E11/(E11/3*2) -> 630 | G11: =Tabela13[[#This Row],[Horas que precisam ser contratadas considerando hora-atividade]]/40 -> 15.75 | H11: 30 | I11: =Tabela13[[#This Row],[Nº de Turmas]]*Tabela13[[#This Row],[Nº de alunos por turma]] -> 360 | J11: =Tabela13[[#This Row],[Total de alunos]]/Tabela13[[#This Row],[Nº Professores necessarios 40h]] -> 22.857143 | K11: =Tabela13[[#This Row],[Nº Professores necessarios 40h]]*75% -> 11.8125 | L11: =Tabela13[[#This Row],[Nº Professores necessarios 40h]]*25% -> 3.9375
B12: Ensino Médio urbano | C12: 24 | D12: 5 | E12: =Tabela13[[#This Row],[Nº de Turmas]]*Tabela13[[#This Row],[Horas Dia]]*5 -> 600 | F12: =E12*E12/(E12/3*2) -> 900 | G12: =Tabela13[[#This Row],[Horas que precisam ser contratadas considerando hora-atividade]]/40 -> 22.5 | H12: 30 | I12: =Tabela13[[#This Row],[Nº de Turmas]]*Tabela13[[#This Row],[Nº de alunos por turma]] -> 720 | J12: =Tabela13[[#This Row],[Total de alunos]]/Tabela13[[#This Row],[Nº Professores necessarios 40h]] -> 32 | K12: =Tabela13[[#This Row],[Nº Professores necessarios 40h]]*75% -> 16.875 | L12: =Tabela13[[#This Row],[Nº Professores necessarios 40h]]*25% -> 5.625
B13: Ensino Médio em tempo integral | C13: 12 | D13: 7 | E13: =Tabela13[[#This Row],[Nº de Turmas]]*Tabela13[[#This Row],[Horas Dia]]*5 -> 420 | F13: =E13*E13/(E13/3*2) -> 630 | G13: =Tabela13[[#This Row],[Horas que precisam ser contratadas considerando hora-atividade]]/40 -> 15.75 | H13: 30 | I13: =Tabela13[[#This Row],[Nº de Turmas]]*Tabela13[[#This Row],[Nº de alunos por turma]] -> 360 | J13: =Tabela13[[#This Row],[Total de alunos]]/Tabela13[[#This Row],[Nº Professores necessarios 40h]] -> 22.857143 | K13: =Tabela13[[#This Row],[Nº Professores necessarios 40h]]*75% -> 11.8125 | L13: =Tabela13[[#This Row],[Nº Professores necessarios 40h]]*25% -> 3.9375
B15: Fonte:http://www.observatoriodopne.org.br/metas-pne/15-formacao-professores/indicadores
B18: Classe | C18: Vencimento inicial | D18: Vencimento final | E18: Dispersão | F18: Média de vencimento mês | G18: Vantagens pecuniárias 20% | I18: Custo ano | J18: Valor
B19: Nível I | C19: 1917.78 | D19: =C19*1.4 -> 2684.892 | E19: =D19/C19-100% -> 0.4 | F19: =(D19+C19)/2 -> 2301.336 | G19: =F19*1.15 -> 2646.5364 | I19: Nível I | J19: =G19*13.33*1.22 -> 43039.563
B20: Nível II | C20: =C19*1.4 -> 2684.892 | D20: =C20*1.4 -> 3758.8488 | E20: =D20/C20-100% -> 0.4 | F20: =(D20+C20)/2 -> 3221.8704 | G20: =F20*1.15 -> 3705.151 | I20: Nível II | J20: =G20*13.33*1.22 -> 60255.388
B23: Etapas e Modalidades da Educaçao Básica | C23: 75% professores com nível superior* | D23: 25% profesores com nível médio* | E23: custo médio ano nível superior | F23: custo médio ano nível médio | G23: Total | H23: Total custo +25% de profissionais em suporte a docencia | I23: Numero de alunos total | J23: Recurso necessario para pagar profissional do magisterio por aluno comprometendo 100% | K23: Recurso necessario para pagar profissional do magisterio por aluno comprometendo 90% | L23: Recurso necessario para pagar profissional do magisterio por aluno comprometendo 80% | M23: Recurso necessario para pagar profissional do magisterio por aluno comprometendo 70%
B24: Creche em tempo integral
B25: Pública | C25: =K4 -> 9.84375 | D25: =L4 -> 3.28125 | E25: =C25*J20 -> 593138.98 | F25: =D25*J19 -> 141223.57 | G25: =E25+F25 -> 734362.54 | H25: =G25*1.25 -> 917953.18 | I25: =I4 -> 130 | J25: =H25/I25 -> 7061.1783 | K25: =H25*100/90/I25 -> 7845.7536 | L25: =H25*100/80/I25 -> 8826.4729 | M25: =H25*100/70/I25 -> 10087.398
B26: Creche em tempo parcial
B27: Pública | C27: =K6 -> 14.0625 | D27: =L6 -> 4.6875 | E27: =C27*J20 -> 847341.39 | F27: =D27*J19 -> 201747.95 | G27: =E27+F27 -> 1049089.3 | H27: =G27*1.25 -> 1311361.7 | I27: =I6 -> 260 | J27: =H27/I27 -> 5043.6988 | K27: =H27*100/90/I27 -> 5604.1097 | L27: =H27*100/80/I27 -> 6304.6235 | M27: =H27*100/70/I27 -> 7205.284
B28: Pré-escola em tempo integral | C28: =K7 -> 11.8125 | D28: =L7 -> 3.9375 | E28: =C28*J20 -> 711766.77 | F28: =D28*J19 -> 169468.28 | G28: =E28+F28 -> 881235.05 | H28: =G28*1.25 -> 1101543.8 | I28: =I7 -> 240 | J28: =H28/I28 -> 4589.7659 | K28: =H28*100/90/I28 -> 5099.7399 | L28: =H28*100/80/I28 -> 5737.2074 | M28: =H28*100/70/I28 -> 6556.8084
B29: Pré-escola em tempo parcial | C29: =K8 -> 16.875 | D29: =L8 -> 5.625 | E29: =C29*J20 -> 1016809.7 | F29: =D29*J19 -> 242097.54 | G29: =E29+F29 -> 1258907.2 | H29: =G29*1.25 -> 1573634 | I29: =I8 -> 480 | J29: =H29/I29 -> 3278.4042 | K29: =H29*100/90/I29 -> 3642.6713 | L29: =H29*100/80/I29 -> 4098.0053 | M29: =H29*100/70/I29 -> 4683.4346
B30: Anos iniciais do Ensino Fundamental urbano | C30: =K9 -> 16.875 | D30: =L9 -> 5.625 | E30: =C30*J20 -> 1016809.7 | F30: =D30*J19 -> 242097.54 | G30: =E30+F30 -> 1258907.2 | H30: =G30*1.25 -> 1573634 | I30: =I9 -> 576 | J30: =H30/I30 -> 2732.0035 | K30: =H30*100/90/I30 -> 3035.5594 | L30: =H30*100/80/I30 -> 3415.0044 | M30: =H30*100/70/I30 -> 3902.8621
B31: Anos finais do ensino fundamental urbana | C31: =K10 -> 16.875 | D31: =L10 -> 5.625 | E31: =C31*J20 -> 1016809.7 | F31: =D31*J19 -> 242097.54 | G31: =E31+F31 -> 1258907.2 | H31: =G31*1.25 -> 1573634 | I31: =I10 -> 720 | J31: =H31/I31 -> 2185.6028 | K31: =H31*100/90/I31 -> 2428.4476 | L31: =H31*100/80/I31 -> 2732.0035 | M31: =H31*100/70/I31 -> 3122.2897
B32: Ensino Fundamental em tempo integral | C32: =K11 -> 11.8125 | D32: =L11 -> 3.9375 | E32: =C32*J20 -> 711766.77 | F32: =D32*J19 -> 169468.28 | G32: =E32+F32 -> 881235.05 | H32: =G32*1.25 -> 1101543.8 | I32: =I11 -> 360 | J32: =H32/I32 -> 3059.8439 | K32: =H32*100/90/I32 -> 3399.8266 | L32: =H32*100/80/I32 -> 3824.8049 | M32: =H32*100/70/I32 -> 4371.2056
B33: Ensino Médio urbano | C33: =K12 -> 16.875 | D33: =L12 -> 5.625 | E33: =C33*J20 -> 1016809.7 | F33: =D33*J19 -> 242097.54 | G33: =E33+F33 -> 1258907.2 | H33: =G33*1.25 -> 1573634 | I33: =I12 -> 720 | J33: =H33/I33 -> 2185.6028 | K33: =H33*100/90/I33 -> 2428.4476 | L33: =H33*100/80/I33 -> 2732.0035 | M33: =H33*100/70/I33 -> 3122.2897
B34: Ensino Médio em tempo integral | C34: =K13 -> 11.8125 | D34: =L13 -> 3.9375 | E34: =C34*J20 -> 711766.77 | F34: =D34*J19 -> 169468.28 | G34: =E34+F34 -> 881235.05 | H34: =G34*1.25 -> 1101543.8 | I34: =I13 -> 360 | J34: =H34/I34 -> 3059.8439 | K34: =H34*100/90/I34 -> 3399.8266 | L34: =H34*100/80/I34 -> 3824.8049 | M34: =H34*100/70/I34 -> 4371.2056

Sheet Professores - Escola 6 salas
B2: Etapas e Modalidades da Educaçao Básica | C2: Nº de Turmas | D2: Horas Dia | E2: Horas por Semana (horas dia x 5 dias) | F2: Horas que precisam ser contratadas considerando hora-atividade | G2: Nº Professores necessarios 40h | H2: Nº de alunos por turma | I2: Total de alunos | J2: Relação professor/aluno | K2: 75% professores com nível superior* | L2: 25% profesores com nível médio*
B3: Creche em tempo integral
B4: Pública | C4: 10 | D4: 7 | E4: =Tabela134[[#This Row],[Nº de Turmas]]*Tabela134[[#This Row],[Horas Dia]]*5 -> 350 | F4: =E4*E4/(E4/3*2) -> 525 | G4: =Tabela134[[#This Row],[Horas que precisam ser contratadas considerando hora-atividade]]/40 -> 13.125 | H4: 13 | I4: =Tabela134[[#This Row],[Nº de Turmas]]*Tabela134[[#This Row],[Nº de alunos por turma]] -> 130 | J4: =Tabela134[[#This Row],[Total de alunos]]/Tabela134[[#This Row],[Nº Professores necessarios 40h]] -> 9.9047619 | K4: =Tabela134[[#This Row],[Nº Professores necessarios 40h]]*75% -> 9.84375 | L4: =Tabela134[[#This Row],[Nº Professores necessarios 40h]]*25% -> 3.28125
B5: Creche em tempo parcial
B6: Pública | C6: 20 | D6: 5 | E6: =Tabela134[[#This Row],[Nº de Turmas]]*Tabela134[[#This Row],[Horas Dia]]*5 -> 500 | F6: =E6*E6/(E6/3*2) -> 750 | G6: =Tabela134[[#This Row],[Horas que precisam ser contratadas considerando hora-atividade]]/40 -> 18.75 | H6: 13 | I6: =Tabela134[[#This Row],[Nº de Turmas]]*Tabela134[[#This Row],[Nº de alunos por turma]] -> 260 | J6: =Tabela134[[#This Row],[Total de alunos]]/Tabela134[[#This Row],[Nº Professores necessarios 40h]] -> 13.866667 | K6: =Tabela134[[#This Row],[Nº Professores necessarios 40h]]*75% -> 14.0625 | L6: =Tabela134[[#This Row],[Nº Professores necessarios 40h]]*25% -> 4.6875
B7: Pré-escola em tempo integral | C7: 6 | D7: 7 | E7: =Tabela134[[#This Row],[Nº de Turmas]]*Tabela134[[#This Row],[Horas Dia]]*5 -> 210 | F7: =E7*E7/(E7/3*2) -> 315 | G7: =Tabela134[[#This Row],[Horas que precisam ser contratadas considerando hora-atividade]]/40 -> 7.875 | H7: 20 | I7: =Tabela134[[#This Row],[Nº de Turmas]]*Tabela134[[#This Row],[Nº de alunos por turma]] -> 120 | J7: =Tabela134[[#This Row],[Total de alunos]]/Tabela134[[#This Row],[Nº Professores necessarios 40h]] -> 15.238095 | K7: =Tabela134[[#This Row],[Nº Professores necessarios 40h]]*75% -> 5.90625 | L7: =Tabela134[[#This Row],[Nº Professores necessarios 40h]]*25% -> 1.96875
B8: Pré-escola em tempo parcial | C8: 12 | D8: 5 | E8: =Tabela134[[#This Row],[Nº de Turmas]]*Tabela134[[#This Row],[Horas Dia]]*5 -> 300 | F8: =E8*E8/(E8/3*2) -> 450 | G8: =Tabela134[[#This Row],[Horas que precisam ser contratadas considerando hora-atividade]]/40 -> 11.25 | H8: 20 | I8: =Tabela134[[#This Row],[Nº de Turmas]]*Tabela134[[#This Row],[Nº de alunos por turma]] -> 240 | J8: =Tabela134[[#This Row],[Total de alunos]]/Tabela134[[#This Row],[Nº Professores necessarios 40h]] -> 21.333333 | K8: =Tabela134[[#This Row],[Nº Professores necessarios 40h]]*75% -> 8.4375 | L8: =Tabela134[[#This Row],[Nº Professores necessarios 40h]]*25% -> 2.8125
B9: Anos iniciais do Ensino Fundamental urbano | C9: 12 | D9: 5 | E9: =Tabela134[[#This Row],[Nº de Turmas]]*Tabela134[[#This Row],[Horas Dia]]*5 -> 300 | F9: =E9*E9/(E9/3*2) -> 450 | G9: =Tabela134[[#This Row],[Horas que precisam ser contratadas considerando hora-atividade]]/40 -> 11.25 | H9: 24 | I9: =Tabela134[[#This Row],[Nº de Turmas]]*Tabela134[[#This Row],[Nº de alunos por turma]] -> 288 | J9: =Tabela134[[#This Row],[Total de alunos]]/Tabela134[[#This Row],[Nº Professores necessarios 40h]] -> 25.6 | K9: =Tabela134[[#This Row],[Nº Professores necessarios 40h]]*75% -> 8.4375 | L9: =Tabela134[[#This Row],[Nº Professores necessarios 40h]]*25% -> 2.8125
B10: Anos finais do ensino fundamental urbana | C10: 12 | D10: 5 | E10: =Tabela134[[#This Row],[Nº de Turmas]]*Tabela134[[#This Row],[Horas Dia]]*5 -> 300 | F10: =E10*E10/(E10/3*2) -> 450 | G10: =Tabela134[[#This Row],[Horas que precisam ser contratadas considerando hora-atividade]]/40 -> 11.25 | H10: 30 | I10: =Tabela134[[#This Row],[Nº de Turmas]]*Tabela134[[#This Row],[Nº de alunos por turma]] -> 360 | J10: =Tabela134[[#This Row],[Total de alunos]]/Tabela134[[#This Row],[Nº Professores necessarios 40h]] -> 32 | K10: =Tabela134[[#This Row],[Nº Professores necessarios 40h]]*75% -> 8.4375 | L10: =Tabela134[[#This Row],[Nº Professores necessarios 40h]]*25% -> 2.8125
B11: Ensino Fundamental em tempo integral | C11: 6 | D11: 7 | E11: =Tabela134[[#This Row],[Nº de Turmas]]*Tabela134[[#This Row],[Horas Dia]]*5 -> 210 | F11: =E11*E11/(E11/3*2) -> 315 | G11: =Tabela134[[#This Row],[Horas que precisam ser contratadas considerando hora-atividade]]/40 -> 7.875 | H11: 30 | I11: =Tabela134[[#This Row],[Nº de Turmas]]*Tabela134[[#This Row],[Nº de alunos por turma]] -> 180 | J11: =Tabela134[[#This Row],[Total de alunos]]/Tabela134[[#This Row],[Nº Professores necessarios 40h]] -> 22.857143 | K11: =Tabela134[[#This Row],[Nº Professores necessarios 40h]]*75% -> 5.90625 | L11: =Tabela134[[#This Row],[Nº Professores necessarios 40h]]*25% -> 1.96875
B12: Ensino Médio urbano | C12: 12 | D12: 5 | E12: =Tabela134[[#This Row],[Nº de Turmas]]*Tabela134[[#This Row],[Horas Dia]]*5 -> 300 | F12: =E12*E12/(E12/3*2) -> 450 | G12: =Tabela134[[#This Row],[Horas que precisam ser contratadas considerando hora-atividade]]/40 -> 11.25 | H12: 30 | I12: =Tabela134[[#This Row],[Nº de Turmas]]*Tabela134[[#This Row],[Nº de alunos por turma]] -> 360 | J12: =Tabela134[[#This Row],[Total de alunos]]/Tabela134[[#This Row],[Nº Professores necessarios 40h]] -> 32 | K12: =Tabela134[[#This Row],[Nº Professores necessarios 40h]]*75% -> 8.4375 | L12: =Tabela134[[#This Row],[Nº Professores necessarios 40h]]*25% -> 2.8125
B13: Ensino Médio em tempo integral | C13: 6 | D13: 7 | E13: =Tabela134[[#This Row],[Nº de Turmas]]*Tabela134[[#This Row],[Horas Dia]]*5 -> 210 | F13: =E13*E13/(E13/3*2) -> 315 | G13: =Tabela134[[#This Row],[Horas que precisam ser contratadas considerando hora-atividade]]/40 -> 7.875 | H13: 30 | I13: =Tabela134[[#This Row],[Nº de Turmas]]*Tabela134[[#This Row],[Nº de alunos por turma]] -> 180 | J13: =Tabela134[[#This Row],[Total de alunos]]/Tabela134[[#This Row],[Nº Professores necessarios 40h]] -> 22.857143 | K13: =Tabela134[[#This Row],[Nº Professores necessarios 40h]]*75% -> 5.90625 | L13: =Tabela134[[#This Row],[Nº Professores necessarios 40h]]*25% -> 1.96875
B15: Fonte:http://www.observatoriodopne.org.br/metas-pne/15-formacao-professores/indicadores
B18: Classe | C18: Vencimento inicial | D18: Vencimento final | E18: Dispersão | F18: Média de vencimento mês | G18: Vantagens pecuniárias 20% | I18: Custo ano | J18: Valor
B19: Nível I | C19: 1917.78 | D19: =C19*1.4 -> 2684.892 | E19: =D19/C19-100% -> 0.4 | F19: =(D19+C19)/2 -> 2301.336 | G19: =F19*1.15 -> 2646.5364 | I19: Nível I | J19: =G19*13.33*1.22 -> 43039.563
B20: Nível II | C20: =C19*1.4 -> 2684.892 | D20: =C20*1.4 -> 3758.8488 | E20: =D20/C20-100% -> 0.4 | F20: =(D20+C20)/2 -> 3221.8704 | G20: =F20*1.15 -> 3705.151 | I20: Nível II | J20: =G20*13.33*1.22 -> 60255.388
B23: Etapas e Modalidades da Educaçao Básica | C23: 75% professores com nível superior* | D23: 25% profesores com nível médio* | E23: custo médio ano nível superior | F23: custo médio ano nível médio | G23: Total | H23: Total custo +25% de profissionais em suporte a docencia | I23: Numero de alunos total | J23: Recurso necessario para pagar profissional do magisterio por aluno comprometendo 100% | K23: Recurso necessario para pagar profissional do magisterio por aluno comprometendo 90% | L23: Recurso necessario para pagar profissional do magisterio por aluno comprometendo 80% | M23: Recurso necessario para pagar profissional do magisterio por aluno comprometendo 70%
B24: Creche em tempo integral
B25: Pública | C25: =K4 -> 9.84375 | D25: =L4 -> 3.28125 | E25: =C25*J20 -> 593138.98 | F25: =D25*J19 -> 141223.57 | G25: =E25+F25 -> 734362.54 | H25: =G25*1.25 -> 917953.18 | I25: =I4 -> 130 | J25: =H25/I25 -> 7061.1783 | K25: =H25*100/90/I25 -> 7845.7536 | L25: =H25*100/80/I25 -> 8826.4729 | M25: =H25*100/70/I25 -> 10087.398
B26: Creche em tempo parcial
B27: Pública | C27: =K6 -> 14.0625 | D27: =L6 -> 4.6875 | E27: =C27*J20 -> 847341.39 | F27: =D27*J19 -> 201747.95 | G27: =E27+F27 -> 1049089.3 | H27: =G27*1.25 -> 1311361.7 | I27: =I6 -> 260 | J27: =H27/I27 -> 5043.6988 | K27: =H27*100/90/I27 -> 5604.1097 | L27: =H27*100/80/I27 -> 6304.6235 | M27: =H27*100/70/I27 -> 7205.284
B28: Pré-escola em tempo integral | C28: =K7 -> 5.90625 | D28: =L7 -> 1.96875 | E28: =C28*J20 -> 355883.39 | F28: =D28*J19 -> 84734.139 | G28: =E28+F28 -> 440617.52 | H28: =G28*1.25 -> 550771.91 | I28: =I7 -> 120 | J28: =H28/I28 -> 4589.7659 | K28: =H28*100/90/I28 -> 5099.7399 | L28: =H28*100/80/I28 -> 5737.2074 | M28: =H28*100/70/I28 -> 6556.8084
B29: Pré-escola em tempo parcial | C29: =K8 -> 8.4375 | D29: =L8 -> 2.8125 | E29: =C29*J20 -> 508404.84 | F29: =D29*J19 -> 121048.77 | G29: =E29+F29 -> 629453.61 | H29: =G29*1.25 -> 786817.01 | I29: =I8 -> 240 | J29: =H29/I29 -> 3278.4042 | K29: =H29*100/90/I29 -> 3642.6713 | L29: =H29*100/80/I29 -> 4098.0053 | M29: =H29*100/70/I29 -> 4683.4346
B30: Anos iniciais do Ensino Fundamental urbano | C30: =K9 -> 8.4375 | D30: =L9 -> 2.8125 | E30: =C30*J20 -> 508404.84 | F30: =D30*J19 -> 121048.77 | G30: =E30+F30 -> 629453.61 | H30: =G30*1.25 -> 786817.01 | I30: =I9 -> 288 | J30: =H30/I30 -> 2732.0035 | K30: =H30*100/90/I30 -> 3035.5594 | L30: =H30*100/80/I30 -> 3415.0044 | M30: =H30*100/70/I30 -> 3902.8621
B31: Anos finais do ensino fundamental urbana | C31: =K10 -> 8.4375 | D31: =L10 -> 2.8125 | E31: =C31*J20 -> 508404.84 | F31: =D31*J19 -> 121048.77 | G31: =E31+F31 -> 629453.61 | H31: =G31*1.25 -> 786817.01 | I31: =I10 -> 360 | J31: =H31/I31 -> 2185.6028 | K31: =H31*100/90/I31 -> 2428.4476 | L31: =H31*100/80/I31 -> 2732.0035 | M31: =H31*100/70/I31 -> 3122.2897
B32: Ensino Fundamental em tempo integral | C32: =K11 -> 5.90625 | D32: =L11 -> 1.96875 | E32: =C32*J20 -> 355883.39 | F32: =D32*J19 -> 84734.139 | G32: =E32+F32 -> 440617.52 | H32: =G32*1.25 -> 550771.91 | I32: =I11 -> 180 | J32: =H32/I32 -> 3059.8439 | K32: =H32*100/90/I32 -> 3399.8266 | L32: =H32*100/80/I32 -> 3824.8049 | M32: =H32*100/70/I32 -> 4371.2056
B33: Ensino Médio urbano | C33: =K12 -> 8.4375 | D33: =L12 -> 2.8125 | E33: =C33*J20 -> 508404.84 | F33: =D33*J19 -> 121048.77 | G33: =E33+F33 -> 629453.61 | H33: =G33*1.25 -> 786817.01 | I33: =I12 -> 360 | J33: =H33/I33 -> 2185.6028 | K33: =H33*100/90/I33 -> 2428.4476 | L33: =H33*100/80/I33 -> 2732.0035 | M33: =H33*100/70/I33 -> 3122.2897
B34: Ensino Médio em tempo integral | C34: =K13 -> 5.90625 | D34: =L13 -> 1.96875 | E34: =C34*J20 -> 355883.39 | F34: =D34*J19 -> 84734.139 | G34: =E34+F34 -> 440617.52 | H34: =G34*1.25 -> 550771.91 | I34: =I13 -> 180 | J34: =H34/I34 -> 3059.8439 | K34: =H34*100/90/I34 -> 3399.8266 | L34: =H34*100/80/I34 -> 3824.8049 | M34: =H34*100/70/I34 -> 4371.2056

Sheet Limpeza - Escola 12 salas
B2: Bloco A | H2: Área total | I2: Proporçao de serventes por 600 metros quadrados
B3: Quantidade | C3: Ambientes | D3: Área | E3: Quant. Limp. Dia | F3: Área total | H3: =F11+F17+F24+F39+F46+F53+F60+F65+F72 -> 5126.815 | I3: =H3/600 -> 8.5446917
B4: 1 | C4: Direção | D4: =3*3.45 -> 10.35 | E4: 1 | F4: =D4*E4 -> 10.35
B5: 1 | C5: Almoxarifado | D5: =1.8*4.65 -> 8.37 | E5: 1 | F5: =D5*E5 -> 8.37 | H5: Remuneracao | I5: mes | J5: ano
B6: 1 | C6: Coordenação | D6: =3.45*4.65 -> 16.0425 | E6: 2 | F6: =D6*E6 -> 32.085 | I6: =788*I3 -> 6733.217 | J6: =I6*13.33*1.22 -> 109499.62
B7: 1 | C7: Secretaria | D7: =5.85*4.65 -> 27.2025 | E7: 2 | F7: =D7*E7 -> 54.405
B8: 1 | C8: Sala dos professores | D8: =5.25*4.65 -> 24.4125 | E8: 2 | F8: =D8*E8 -> 48.825
B9: 2 | C9: Sanitários (Fem/Mas) | D9: =1.5*2.45*2 -> 7.35 | E9: 4 | F9: =D9*E9 -> 29.4
B10: 1 | C10: Circulação | D10: =7.55*2.4 -> 18.12 | E10: 2 | F10: =D10*E10 -> 36.24
C11: Total | F11: =SUM(F4:F10) -> 219.675
B13: Bloco B
B14: Quantidade | C14: Ambientes | D14: Área | E14: Quant. Limp. Dia | F14: Área total
B15: 1 | C15: Auditório | D15: 83.58 | E15: 1 | F15: =D15*E15 -> 83.58
B16: 1 | C16: Biblioteca | D16: 67.71 | E16: 2 | F16: =D16*E16 -> 135.42
C17: Total | F17: =SUM(F15:F16) -> 219
B19: Bloco C
B20: Quantidade | C20: Ambientes | D20: Área | E20: Quant. Limp. Dia | F20: Área total
B21: 1 | C21: Informática | D21: 50.3 | E21: 2 | F21: =D21*E21 -> 100.6
B22: 1 | C22: Ciências | D22: 67.94 | E22: 2 | F22: =D22*E22 -> 135.88
B23: 1 | C23: Grêmio | D23: 32.65 | E23: 1 | F23: =D23*E23 -> 32.65
C24: Total | F24: =SUM(F21:F23) -> 269.13
B26: Bloco D
B27: Quantidade | C27: Ambientes | D27: Área | E27: Quant. Limp. Dia | F27: Área total
B28: 1 | C28: Pátio coberto | D28: 224.56 | E28: 2 | F28: =D28*E28 -> 449.12
B29: 1 | C29: Despensa | D29: 9.48 | E29: 1 | F29: =D29*E29 -> 9.48
B30: 1 | C30: Triagem/lavagem | D30: 4.09 | E30: 2 | F30: =D30*E30 -> 8.18
B31: 1 | C31: Banho | D31: 1.8 | E31: 2 | F31: =D31*E31 -> 3.6
B32: 1 | C32: Cozinha | D32: 30.7 | E32: 2 | F32: =D32*E32 -> 61.4
B33: 1 | C33: Área de serviço | D33: 6.74 | E33: 2 | F33: =D33*E33 -> 13.48
B34: 1 | C34: Circulação | D34: 1.46 | E34: 2 | F34: =D34*E34 -> 2.92
B35: 1 | C35: DML | D35: 1.99 | E35: 1 | F35: =D35*E35 -> 1.99
B36: 1 | C36: Compartilhamento de gás | D36: 2 | E36: 1 | F36: =D36*E36 -> 2
B37: 1 | C37: Compartilhamento de lixo | D37: 1.71 | E37: 2 | F37: =D37*E37 -> 3.42
B38: 1 | C38: Sanitário | D38: 1.6 | E38: 4 | F38: =D38*E38 -> 6.4
C39: Total | F39: =SUM(F28:F38) -> 561.99
B41: Bloco E1
B42: Quantidade | C42: Ambientes | D42: Área | E42: Quant. Limp. Dia | F42: Área total
B43: 4 | C43: Sala de aula | D43: =51.82*B43 -> 207.28 | E43: 2 | F43: =D43*E43 -> 414.56
B44: 1 | C44: Circulação | D44: 118.07 | E44: 2 | F44: =D44*E44 -> 236.14
B45: 2 | C45: Sanitário | D45: =16.74*B45 -> 33.48 | E45: 4 | F45: =D45*E45 -> 133.92
...

Sheet Limpeza - Escola 6 salas
B2: Bloco Administrativo | H2: Área total | I2: Proporçao de serventes por 600 metros quadrados
B3: Quantidade | C3: Ambientes | D3: Área | E3: Quant. Limp. Dia | F3: Área total | H3: =F11+F22+F28+F33+F39 -> 1598.3825 | I3: =H3/600 -> 2.6639708
B4: 1 | C4: Almoxarifado | D4: =4.45*1.65 -> 7.3425 | E4: 1 | F4: =B4*D4*E4 -> 7.3425
B5: 1 | C5: Arquivo | D5: 5.43 | E5: 1 | F5: =B5*D5*E5 -> 5.43 | H5: Remuneracao | I5: mes | J5: ano
B6: 1 | C6: Diretoria | D6: 13.67 | E6: 1 | F6: =B6*D6*E6 -> 13.67 | I6: =788*I3 -> 2099.209 | J6: =I6*13.33*1.22 -> 34138.597
B7: 1 | C7: Secretaria | D7: 19.59 | E7: 1 | F7: =B7*D7*E7 -> 19.59
B8: 1 | C8: Sala dos Professores | D8: =4.45*3.25 -> 14.4625 | E8: 2 | F8: =B8*D8*E8 -> 28.925
B9: 2 | C9: Sanitários (feminino e masculino) | D9: =1.65*1.45 -> 2.3925 | E9: 4 | F9: =B9*D9*E9 -> 19.14
B10: 1 | C10: Circulação | D10: 24.25 | E10: 2 | F10: =B10*D10*E10 -> 48.5
C11: Total | F11: =SUM(F4:F10) -> 142.5975
B13: Bloco de Serviço
B14: Quantidade | C14: Ambiente | D14: Área | E14: Quant. Limp. Dia | F14: Área total
B15: 1 | C15: Área de Serviço | D15: =5.05*2 -> 10.1 | E15: 2 | F15: =B15*D15*E15 -> 20.2
B16: 1 | C16: Cozinha | D16: =4.45*3.65 -> 16.2425 | E16: 2 | F16: =B16*D16*E16 -> 32.485
B17: 1 | C17: Depósito | D17: =2.3*1.2 -> 2.76 | E17: 1 | F17: =B17*D17*E17 -> 2.76
B18: 1 | C18: Despensa | D18: =2.3*2.05 -> 4.715 | E18: 1 | F18: =B18*D18*E18 -> 4.715
B19: 2 | C19: Sanitários ( feminino e masculino) | D19: =4.45*3.15 -> 14.0175 | E19: 4 | F19: =B19*D19*E19 -> 112.14
B20: 1 | C20: Vestiário | D20: =2.3*1.5 -> 3.45 | E20: 4 | F20: =B20*D20*E20 -> 13.8
B21: 1 | C21: Circulação | D21: =15.75 *1.55 -> 24.4125 | E21: 2 | F21: =B21*D21*E21 -> 48.825
C22: Total | F22: =SUM(F15:F21) -> 234.925
B24: Bloco Pedagógico
B25: Quantidade | C25: Ambiente | D25: Área | E25: Quant. Limp. Dia | F25: Área total
B26: 1 | C26: Biblioteca/Informática | D26: =7.825*6 -> 46.95 | E26: 2 | F26: =B26*D26*E26 -> 93.9
B27: 6 | C27: Salas de Aula | D27: =8*6 -> 48 | E27: 2 | F27: =B27*D27*E27 -> 576
C28: Total | F28: =SUM(F26:F27) -> 669.9
B30: Bloco Administrativo
B31: Quantidade | C31: Ambiente | D31: Área | E31: Quant. Limp. Dia | F31: Área total
B32: 1 | C32: Circulação | D32: =41.8*1.55 -> 64.79 | E32: 2 | F32: =B32*D32*E32 -> 129.58
C33: Total | F33: =SUM(F32) -> 129.58
B35: Demais Espaços
B36: Quantidade | C36: Ambiente | D36: Área | E36: Quant. Limp. Dia | F36: Área total
B37: 1 | C37: Pátio Coberto | D37: 173.73 | E37: 2 | F37: =B37*D37*E37 -> 347.46
B38: 3 | C38: Passarelas (M1) | D38: =3.2*3.85 -> 12.32 | E38: 2 | F38: =B38*D38*E38 -> 73.92
C39: Total | F39: =SUM(F37:F38) -> 421.38

Sheet Limpeza - Creche 10 salas
B2: Bloco A | H2: Área total | I2: Proporçao de serventes por 600 metros quadrados
B3: Quantidade | C3: Ambientes | D3: Área | E3: Quant. Limp. Dia | F3: Área total | H3: =F34+F51+F58 -> 3052.7055 | I3: =H3/600 -> 5.0878425
B4: 1 | C4: Hall | D4: =4.3*6.4 -> 27.52 | E4: 2 | F4: =B4*D4*E4 -> 55.04
B5: 1 | C5: Circulação interna | D5: 60.51 | E5: 1 | F5: =B5*D5*E5 -> 60.51 | H5: Remuneracao | I5: mes | J5: ano
B6: 1 | C6: Secretaria | D6: =6*3.2 -> 19.2 | E6: 1 | F6: =B6*D6*E6 -> 19.2 | I6: =788*I3 -> 4009.2199 | J6: =I6*13.33*1.22 -> 65200.339
B7: 1 | C7: Sala dos professores | D7: =6*3.4 -> 20.4 | E7: 2 | F7: =B7*D7*E7 -> 40.8
B8: 1 | C8: Diretoria | D8: 13.1 | E8: 1 | F8: =B8*D8*E8 -> 13.1
B9: 1 | C9: Almoxarifado | D9: 10.58 | E9: 1 | F9: =B9*D9*E9 -> 10.58
B10: 2 | C10: Sanitários | D10: =1.7*1.5 -> 2.55 | E10: 2 | F10: =B10*D10*E10 -> 10.2
B11: 1 | C11: Higienização | D11: =1.3*2.7 -> 3.51 | E11: 2 | F11: =B11*D11*E11 -> 7.02
B12: 1 | C12: Lactário | D12: =4.55*2.7 -> 12.285 | E12: 2 | F12: =B12*D12*E12 -> 24.57
B13: 2 | C13: Fraldários | D13: =4.8*2.6 -> 12.48 | E13: 2 | F13: =B13*D13*E13 -> 49.92
B14: 2 | C14: Depósitos | D14: =1.3*2.6 -> 3.38 | E14: 1 | F14: =B14*D14*E14 -> 6.76
B15: 1 | C15: Amamentação | D15: =2.4*3.15 -> 7.56 | E15: 4 | F15: =B15*D15*E15 -> 30.24
B16: 2 | C16: Salas de atividades I | D16: =6*5.95 -> 35.7 | E16: 2 | F16: =B16*D16*E16 -> 142.8
B17: 2 | C17: Solários | D17: 26.9 | E17: 2 | F17: =B17*D17*E17 -> 107.6
B18: 1 | C18: Circulação interna | D18: 17.51 | E18: 2 | F18: =B18*D18*E18 -> 35.02
B19: 1 | C19: SI/telefonia/Elétrica | D19: =3.9*1.1 -> 4.29 | E19: 1 | F19: =B19*D19*E19 -> 4.29
B20: 1 | C20: Copa funcionários | D20: 10.52 | E20: 2 | F20: =B20*D20*E20 -> 21.04
B21: 1 | C21: Circulação interna | D21: 2.86 | E21: 2 | F21: =B21*D21*E21 -> 5.72
B22: 1 | C22: Lavanderia | D22: =11.35 -> 11.35 | E22: 2 | F22: =B22*D22*E22 -> 22.7
B23: 1 | C23: Rouparia | D23: =2.61*2.15 -> 5.6115 | E23: 2 | F23: =B23*D23*E23 -> 11.223
B24: 1 | C24: DML | D24: =1.85*1.85 -> 3.4225 | E24: 1 | F24: =B24*D24*E24 -> 3.4225
B25: 2 | C25: Sanitários Adultos | D25: =2.05*1.85 -> 3.7925 | E25: 4 | F25: =B25*D25*E25 -> 30.34
B26: 1 | C26: Sanitários Infantil | D26: =2.5*1.85 -> 4.625 | E26: 4 | F26: =B26*D26*E26 -> 18.5
B27: 1 | C27: Refeitório | D27: 89.04 | E27: 2 | F27: =B27*D27*E27 -> 178.08
B28: 1 | C28: Circulação interna | D28: 3.52 | E28: 2 | F28: =B28*D28*E28 -> 7.04
B29: 1 | C29: Cozinha | D29: 40.13 | E29: 2 | F29: =B29*D29*E29 -> 80.26
B30: 1 | C30: Circulação interna | D30: 4.86 | E30: 2 | F30: =B30*D30*E30 -> 9.72
B31: 1 | C31: Despensa | D31: =4.3*2.05 -> 8.815 | E31: 1 | F31: =B31*D32*E31 -> 26.93
B32: 1 | C32: Varanda de serviço | D32: 26.93 | E32: 2 | F32: =B32*D32*E32 -> 53.86
B33: 1 | C33: Varanda | D33: 29.2 | E33: 2 | F33: =B33*D33*E33 -> 58.4
C34: Total | F34: =SUM(F4:F33) -> 1144.8855
B36: Bloco B
B37: Quantidade | C37: Ambientes | D37: Área | E37: Quant. Limp. Dia | F37: Área total
B38: 2 | C38: Salas de Atividade II | D38: =6*5.95 -> 35.7 | E38: 2 | F38: =B38*D38*E38 -> 142.8
B39: 2 | C39: Sanitários Infantis | D39: =6.25*2.6 -> 16.25 | E39: 4 | F39: =B39*D39*E39 -> 130
B40: 1 | C40: Sanitário PNE Infantil | D40: =2.4*3 -> 7.2 | E40: 4 | F40: =B40*D40*E40 -> 28.8
B41: 2 | C41: Salas de Atividade II | D41: =6*5.95 -> 35.7 | E41: 2 | F41: =B41*D41*E41 -> 142.8
B42: 1 | C42: Sala Multiuso | D42: =6*5.95 -> 35.7 | E42: 2 | F42: =B42*D42*E42 -> 71.4
...

Sheet Custo Consolidado
B2: Escola com 12 salas - Creche com 10 salas
B3: Etapas e Modalidades da Educaçao Básica | C3: Custo professores + 25% de profissionais em suporte a docencia | D3: Custo com Limpeza | E3: Custo com Merendeira | F3: Custo com Secretaria | G3: Total Custo | H3: Numero de alunos | I3: Recurso necessario para pagar todo o custo por aluno comprometendo 100% | J3: Recurso necessario para pagar todo o custo por aluno comprometendo 90% | K3: Recurso necessario para pagar todo o custo por aluno comprometendo 80% | L3: Recurso necessario para pagar todo o custo por aluno comprometendo 70% | M3: Fatores de Ponderação
B4: Creche em tempo integral
B5: Pública | C5: ='Professores - Escola 12 Salas'!H25 -> 917953.18 | D5: ='Limpeza - Creche 10 salas'!J6 -> 65200.339 | E5: =788*13.33*1.22 -> 12814.929 | F5: =1000*13.33*1.22 -> 16262.6 | G5: =SUM(C5:F5) -> 1012231 | H5: ='Professores - Escola 12 Salas'!I25 -> 130 | I5: =G5/H5 -> 7786.3927 | J5: =G5*100/90/H5 -> 8651.5474 | K5: =G5*100/80/H5 -> 9732.9908 | L5: =G5*100/70/H5 -> 11123.418 | M5: =I5/fator_padrão -> 2.5151467
B6: Creche em tempo parcial
B7: Pública | C7: ='Professores - Escola 12 Salas'!H27 -> 1311361.7 | D7: ='Limpeza - Creche 10 salas'!J6 -> 65200.339 | E7: =788*2*13.33*1.22 -> 25629.858 | F7: =1000*2*13.33*1.22 -> 32525.2 | G7: =SUM(C7:F7) -> 1434717.1 | H7: ='Professores - Escola 12 Salas'!I27 -> 260 | I7: =G7/H7 -> 5518.1426 | J7: =G7*100/90/H7 -> 6131.2696 | K7: =G7*100/80/H7 -> 6897.6783 | L7: =G7*100/70/H7 -> 7883.0609 | M7: =I7/fator_padrão -> 1.7824606
B8: Pré-escola em tempo integral | C8: ='Professores - Escola 12 Salas'!H28 -> 1101543.8 | D8: ='Limpeza - Escola 12 salas'!J6 -> 109499.62 | E8: =788*2*13.33*1.22 -> 25629.858 | F8: =1000*2*13.33*1.22 -> 32525.2 | G8: =SUM(C8:F8) -> 1269198.5 | H8: ='Professores - Escola 12 Salas'!I28 -> 240 | I8: =G8/H8 -> 5288.327 | J8: =G8*100/90/H8 -> 5875.9189 | K8: =G8*100/80/H8 -> 6610.4088 | L8: =G8*100/70/H8 -> 7554.7529 | M8: =I8/fator_padrão -> 1.708226
B9: Pré-escola em tempo parcial | C9: ='Professores - Escola 12 Salas'!H29 -> 1573634 | D9: ='Limpeza - Escola 12 salas'!J6 -> 109499.62 | E9: =788*4*13.33*1.22 -> 51259.715 | F9: =1000*3*13.33*1.22 -> 48787.8 | G9: =SUM(C9:F9) -> 1783181.1 | H9: ='Professores - Escola 12 Salas'!I29 -> 480 | I9: =G9/H9 -> 3714.9607 | J9: =G9*100/90/H9 -> 4127.7341 | K9: =G9*100/80/H9 -> 4643.7009 | L9: =G9*100/70/H9 -> 5307.0867 | M9: =I9/fator_padrão -> 1.2
B10: Anos iniciais do Ensino Fundamental urbano | C10: ='Professores - Escola 12 Salas'!H30 -> 1573634 | D10: ='Limpeza - Escola 12 salas'!J6 -> 109499.62 | E10: =788*4*13.33*1.22 -> 51259.715 | F10: =1000*3*13.33*1.22 -> 48787.8 | G10: =SUM(C10:F10) -> 1783181.1 | H10: ='Professores - Escola 12 Salas'!I30 -> 576 | I10: =G10/H10 -> 3095.8006 | J10: =G10*100/90/H10 -> 3439.7784 | K10: =G10*100/80/H10 -> 3869.7508 | L10: =G10*100/70/H10 -> 4422.5723 | M10: =I10/fator_padrão -> 1
B11: Anos finais do ensino fundamental urbana | C11: ='Professores - Escola 12 Salas'!H31 -> 1573634 | D11: ='Limpeza - Escola 12 salas'!J6 -> 109499.62 | E11: =788*4*13.33*1.22 -> 51259.715 | F11: =1000*3*13.33*1.22 -> 48787.8 | G11: =SUM(C11:F11) -> 1783181.1 | H11: ='Professores - Escola 12 Salas'!I31 -> 720 | I11: =G11/H11 -> 2476.6405 | J11: =G11*100/90/H11 -> 2751.8228 | K11: =G11*100/80/H11 -> 3095.8006 | L11: =G11*100/70/H11 -> 3538.0578 | M11: =I11/fator_padrão -> 0.8
B12: Ensino Fundamental em tempo integral | C12: ='Professores - Escola 12 Salas'!H32 -> 1101543.8 | D12: ='Limpeza - Escola 12 salas'!J6 -> 109499.62 | E12: =788*4*13.33*1.22 -> 51259.715 | F12: =1000*3*13.33*1.22 -> 48787.8 | G12: =SUM(C12:F12) -> 1311090.9 | H12: ='Professores - Escola 12 Salas'!I32 -> 360 | I12: =G12/H12 -> 3641.9193 | J12: =G12*100/90/H12 -> 4046.577 | K12: =G12*100/80/H12 -> 4552.3991 | L12: =G12*100/70/H12 -> 5202.7418 | M12: =I12/fator_padrão -> 1.1764063
B13: Ensino Médio urbano | C13: ='Professores - Escola 12 Salas'!H33 -> 1573634 | D13: ='Limpeza - Escola 12 salas'!J6 -> 109499.62 | E13: =788*4*13.33*1.22 -> 51259.715 | F13: =1000*3*13.33*1.22 -> 48787.8 | G13: =SUM(C13:F13) -> 1783181.1 | H13: ='Professores - Escola 12 Salas'!I33 -> 720 | I13: =G13/H13 -> 2476.6405 | J13: =G13*100/90/H13 -> 2751.8228 | K13: =G13*100/80/H13 -> 3095.8006 | L13: =G13*100/70/H13 -> 3538.0578 | M13: =I13/fator_padrão -> 0.8
B14: Ensino Médio em tempo integral | C14: ='Professores - Escola 12 Salas'!H34 -> 1101543.8 | D14: ='Limpeza - Escola 12 salas'!J6 -> 109499.62 | E14: =788*3*13.33*1.22 -> 38444.786 | F14: =1000*3*13.33*1.22 -> 48787.8 | G14: =SUM(C14:F14) -> 1298276 | H14: ='Professores - Escola 12 Salas'!I34 -> 360 | I14: =G14/H14 -> 3606.3223 | J14: =G14*100/90/H14 -> 4007.0247 | K14: =G14*100/80/H14 -> 4507.9028 | L14: =G14*100/70/H14 -> 5151.8889 | M14: =I14/fator_padrão -> 1.1649078
B17: Escola com 06 salas - Creche com 10 salas
B18: Etapas e Modalidades da Educaçao Básica | C18: Custo professores + 25% de profissionais em suporte a docencia | D18: Custo com Limpeza | E18: Custo com Merenda | F18: Custo com Secretaria | G18: Total Custo | H18: Numero de alunos | I18: Recurso necessario para pagar todo o custo por aluno comprometendo 100% | J18: Recurso necessario para pagar todo o custo por aluno comprometendo 90% | K18: Recurso necessario para pagar todo o custo por aluno comprometendo 80% | L18: Recurso necessario para pagar todo o custo por aluno comprometendo 70%
B19: Creche em tempo integral
B20: Pública | C20: ='Professores - Escola 6 salas'!H25 -> 917953.18 | D20: ='Limpeza - Creche 10 salas'!J6 -> 65200.339 | E20: =788*13.33*1.22 -> 12814.929 | F20: =1000*13.33*1.22 -> 16262.6 | G20: =SUM(C20:F20) -> 1012231 | H20: ='Professores - Escola 6 salas'!I25 -> 130 | I20: =G20/H20 -> 7786.3927 | J20: =G20*100/90/H20 -> 8651.5474 | K20: =G20*100/80/H20 -> 9732.9908 | L20: =G20*100/70/H20 -> 11123.418
B21: Creche em tempo parcial
B22: Pública | C22: ='Professores - Escola 6 salas'!H27 -> 1311361.7 | D22: ='Limpeza - Creche 10 salas'!J6 -> 65200.339 | E22: =788*2*13.33*1.22 -> 25629.858 | F22: =1000*2*13.33*1.22 -> 32525.2 | G22: =SUM(C22:F22) -> 1434717.1 | H22: ='Professores - Escola 6 salas'!I27 -> 260 | I22: =G22/H22 -> 5518.1426 | J22: =G22*100/90/H22 -> 6131.2696 | K22: =G22*100/80/H22 -> 6897.6783 | L22: =G22*100/70/H22 -> 7883.0609
B23: Pré-escola em tempo integral | C23: ='Professores - Escola 6 salas'!H28 -> 550771.91 | D23: ='Limpeza - Escola 6 salas'!J6 -> 34138.597 | E23: =788*13.33*1.22 -> 12814.929 | F23: =1000*13.33*1.22 -> 16262.6 | G23: =SUM(C23:F23) -> 613988.03 | H23: ='Professores - Escola 6 salas'!I28 -> 120 | I23: =G23/H23 -> 5116.5669 | J23: =G23*100/90/H23 -> 5685.0744 | K23: =G23*100/80/H23 -> 6395.7087 | L23: =G23*100/70/H23 -> 7309.3813
B24: Pré-escola em tempo parcial | C24: ='Professores - Escola 6 salas'!H29 -> 786817.01 | D24: ='Limpeza - Escola 6 salas'!J6 -> 34138.597 | E24: =788*2*13.33*1.22 -> 25629.858 | F24: =1000*2*13.33*1.22 -> 32525.2 | G24: =SUM(C24:F24) -> 879110.66 | H24: ='Professores - Escola 6 salas'!I29 -> 240 | I24: =G24/H24 -> 3662.9611 | J24: =G24*100/90/H24 -> 4069.9568 | K24: =G24*100/80/H24 -> 4578.7014 | L24: =G24*100/70/H24 -> 5232.8016
B25: Anos iniciais do Ensino Fundamental urbano | C25: ='Professores - Escola 6 salas'!H30 -> 786817.01 | D25: ='Limpeza - Escola 6 salas'!J6 -> 34138.597 | E25: =788*3*13.33*1.22 -> 38444.786 | F25: =1000*3*13.33*1.22 -> 48787.8 | G25: =SUM(C25:F25) -> 908188.19 | H25: ='Professores - Escola 6 salas'!I30 -> 288 | I25: =G25/H25 -> 3153.4312 | J25: =G25*100/90/H25 -> 3503.8125 | K25: =G25*100/80/H25 -> 3941.789 | L25: =G25*100/70/H25 -> 4504.9017
B26: Anos finais do ensino fundamental urbana | C26: ='Professores - Escola 6 salas'!H31 -> 786817.01 | D26: ='Limpeza - Escola 6 salas'!J6 -> 34138.597 | E26: =788*3*13.33*1.22 -> 38444.786 | F26: =1000*3*13.33*1.22 -> 48787.8 | G26: =SUM(C26:F26) -> 908188.19 | H26: ='Professores - Escola 6 salas'!I31 -> 360 | I26: =G26/H26 -> 2522.745 | J26: =G26*100/90/H26 -> 2803.05 | K26: =G26*100/80/H26 -> 3153.4312 | L26: =G26*100/70/H26 -> 3603.9214
B27: Ensino Fundamental em tempo integral | C27: ='Professores - Escola 6 salas'!H32 -> 550771.91 | D27: ='Limpeza - Escola 6 salas'!J6 -> 34138.597 | E27: =788*2*13.33*1.22 -> 25629.858 | F27: =1000*2*13.33*1.22 -> 32525.2 | G27: =SUM(C27:F27) -> 643065.56 | H27: ='Professores - Escola 6 salas'!I32 -> 180 | I27: =G27/H27 -> 3572.5864 | J27: =G27*100/90/H27 -> 3969.5405 | K27: =G27*100/80/H27 -> 4465.7331 | L27: =G27*100/70/H27 -> 5103.6949
B28: Ensino Médio urbano | C28: ='Professores - Escola 6 salas'!H33 -> 786817.01 | D28: ='Limpeza - Escola 6 salas'!J6 -> 34138.597 | E28: =788*3*13.33*1.22 -> 38444.786 | F28: =1000*3*13.33*1.22 -> 48787.8 | G28: =SUM(C28:F28) -> 908188.19 | H28: ='Professores - Escola 6 salas'!I33 -> 360 | I28: =G28/H28 -> 2522.745 | J28: =G28*100/90/H28 -> 2803.05 | K28: =G28*100/80/H28 -> 3153.4312 | L28: =G28*100/70/H28 -> 3603.9214
B29: Ensino Médio em tempo integral | C29: ='Professores - Escola 6 salas'!H34 -> 550771.91 | D29: ='Limpeza - Escola 6 salas'!J6 -> 34138.597 | E29: =788*2*13.33*1.22 -> 25629.858 | F29: =1000*2*13.33*1.22 -> 32525.2 | G29: =SUM(C29:F29) -> 643065.56 | H29: ='Professores - Escola 6 salas'!I34 -> 180 | I29: =G29/H29 -> 3572.5864 | J29: =G29*100/90/H29 -> 3969.5405 | K29: =G29*100/80/H29 -> 4465.7331 | L29: =G29*100/70/H29 -> 5103.6949
